BEGIN:VCALENDAR
VERSION:2.0
CALSCALE:GREGORIAN
PRODID:-//MyApp//Calendar 1.0//EN
BEGIN:VEVENT
METHOD:PUBLISH
UID:65836@regionalniportaly.cz
DTSTAMP:20260424T070548Z
DTSTART;VALUE=DATE:20260620
DTEND;VALUE=DATE:20260621
SUMMARY:Handec Fest
DESCRIPTION:Kuřim se chystá na třináctý HANDEC FEST\, který bude v sobotu 20. června. Dorazí ostřílené kapely punk-rockové scény.\nAkce se koná v sobotu 20. června 2026 od 16:00 hod. na nádvoří kuřimského zámku. Konec hudební produkce je naplánován na půlnoc.\nVstupenky stojí 500 korun a jsou také v předprodeji za zvýhodněnou cenu přes SMS Ticket.
LOCATION:Kuřim
END:VEVENT
END:VCALENDAR