BEGIN:VCALENDAR
VERSION:2.0
CALSCALE:GREGORIAN
PRODID:-//MyApp//Calendar 1.0//EN
BEGIN:VEVENT
METHOD:PUBLISH
UID:65688@regionalniportaly.cz
DTSTAMP:20260422T012529Z
DTSTART;VALUE=DATE:20260711
DTEND;VALUE=DATE:20260712
SUMMARY:Duchem proti své vůli
DESCRIPTION:Město Rájec-Jestřebí Vás srdečně zve na letní divadelní představení na ostrůvku rybníka Klimšák "DUCHEM PROTI SVÉ VŮLI".Hrají: Dana Homolová\, Jaromír Nosek\, Ivana Jirešová\, Jakub Zindulka&nbsp\;
LOCATION:Rájec-Jestřebí
END:VEVENT
END:VCALENDAR