BEGIN:VCALENDAR
VERSION:2.0
CALSCALE:GREGORIAN
PRODID:-//MyApp//Calendar 1.0//EN
BEGIN:VEVENT
METHOD:PUBLISH
UID:65678@regionalniportaly.cz
DTSTAMP:20260420T204811Z
DTSTART;VALUE=DATE:20260603
DTEND;VALUE=DATE:20260604
SUMMARY:Cello Republic | Concentus Moraviae
DESCRIPTION:Cello RepublicPetr Špaček / Matěj Štěpánek / Jan Zemen / Ivan Vokáč\nProgram:Danny Elfman: The SimpsonsPetr Iljič Čajkovskij: Variace na rokokové témaAntonín Dvořák: Kéž duch můj sám (z: Čtyři písně\, op. 82)Andrew Lloyd Weber: Could we start again\, please? (z: Jesus Christ Superstar)Johann Sebastian Bach: Erbarme dich (z: Matoušovy pašije\, BWV 244)Jaroslav Ježek: Ezop a Brabenec\, Nebe na zemiJiří Šlitr: Dotýkat se hvězdHarold Arlen: I’ve got the world on a stringSimon &amp\; Garfunkel: Bridge over troubled waterQueen: Bohemian RhapsodyABBA: Dancing QueenAndrew Lloyd Weber: Fantom opery\nCello Republic je soubor složený ze čtyř violoncellistů\, kteří si po studiích na předních světových vysokých školách uvědomili\, že jim v jejich dosavadním koncertování na velkých pódiích něco chybělo: humor.I přes své naprosto rozdílné charaktery a pohled na svět se dva koncertní mistři České filharmonie\, „crossoverová star“ a profesor konzervatoře dali dohromady s cílem představovat hudbu jako něco aktuálního\, živého a nezbytného skoro jako vzduch\, který dýcháme.Cello Republic přichází s konceptem koncertu s podtitulem „no limits“: dosavadní hranice technických možností violoncella je smazána\, přibývá „stand up comedy show“\, ve které je hudba glosována i stavěna do souvislostí všedního života. Vystoupení tohoto kvarteta láká širokou veřejnost i zkušené posluchače vážné hudby.
LOCATION:Kuřim
END:VEVENT
END:VCALENDAR