BEGIN:VCALENDAR
VERSION:2.0
CALSCALE:GREGORIAN
PRODID:-//MyApp//Calendar 1.0//EN
BEGIN:VEVENT
METHOD:PUBLISH
UID:65677@regionalniportaly.cz
DTSTAMP:20260420T204540Z
DTSTART;VALUE=DATE:20260522
DTEND;VALUE=DATE:20260523
SUMMARY:Oživ šatník!
DESCRIPTION:➡️ Přijď si k nám prodat\, co už nenosíš!➡️ Dámské a panské oblečení\, obuv či doplňky.➡️ Chceš obnovit šatník? Přijď i ty!➡️ Rezervace prodejního místa do 20. 5. na emailu: roganska@kdkurim.cz➡️ 22. 5. / 16:00 - 20:00 / Kulturní dům ➡️ Upozorňujeme\, že počet prodejních míst je omezen.
LOCATION:Kuřim
END:VEVENT
END:VCALENDAR