BEGIN:VCALENDAR
VERSION:2.0
CALSCALE:GREGORIAN
PRODID:-//MyApp//Calendar 1.0//EN
BEGIN:VEVENT
METHOD:PUBLISH
UID:65676@regionalniportaly.cz
DTSTAMP:20260420T205239Z
DTSTART;VALUE=DATE:20260515
DTEND;VALUE=DATE:20260516
SUMMARY:Retro diskotéka | Kuřim
DESCRIPTION:Další RETRO DISKOTÉKA na kulťase! Hrát pro vás bude Dj Ital. 15. 5. / 20:00 - 01:00 / Kulturní dům
LOCATION:Kuřim
END:VEVENT
END:VCALENDAR