BEGIN:VCALENDAR
VERSION:2.0
CALSCALE:GREGORIAN
PRODID:-//MyApp//Calendar 1.0//EN
BEGIN:VEVENT
METHOD:PUBLISH
UID:65675@regionalniportaly.cz
DTSTAMP:20260420T204400Z
DTSTART;VALUE=DATE:20260512
DTEND;VALUE=DATE:20260513
SUMMARY:O perníkovém srdci a čarodějné knize | pro děti
DESCRIPTION:Ptáte se\, proč „perníkové“ srdce? Vůní perníku je provoněná celá pohádka. Jak by ne\, když Anička peče nejchutnější a nejvoňavější perník v kraji. Jednou ho jde prodat na jarmark a její cesta vede tmavým lesem. Vůni perníku však neodolají ani zlá čarodějnice a její komplic\, loupežník Rambul\, kteří v lese řádí. I začnou spolu kout pikle\, jak ji o sladkou dobrotu oloupit. Naštěstí to uslyší liška Chytrolína a pokusí se Aničku varovat. Anička jejímu varování příliš nevěří\, tak za ní liška pošle kolemjdoucího vandrovníka\, mladého tesařského tovaryše Martina\, aby Aničku ochránil. A tady se začne odvíjet napínavý děj plný čarování\, kouzel a úkladů\, ale i lásky a odvahy. DAP Praha Napsala: Milada BednářováHrají: Zdeněk Košata / Tomáš Racek\, Karla Škudrnová / Nikola Blažejová / Karolína Andršová / Leila Selyscheva\, Lukáš Veselý / Kristian Černík\, Milada BednářováHudba: Tomáš AlferiNávrh scény: Robert BellanVýtvarná spolupráce: Filip DvořákRežie: Robert Bellan 12. 5. / 17:00 / kulturní dům Vstupenky zakoupíte na www.kulturakurim.cz
LOCATION:Kuřim
END:VEVENT
END:VCALENDAR