BEGIN:VCALENDAR
VERSION:2.0
CALSCALE:GREGORIAN
PRODID:-//MyApp//Calendar 1.0//EN
BEGIN:VEVENT
METHOD:PUBLISH
UID:65578@regionalniportaly.cz
DTSTAMP:20260420T222534Z
DTSTART;VALUE=DATE:20260427
DTEND;VALUE=DATE:20260428
SUMMARY:Coworking na Statku Odysea
DESCRIPTION:Coworking na Statku: the last cowork you’ll ever need!možná poslední cowork\, který fakt bude dávat smyslUž tě nebaví sedět v kanclu nebo&nbsp\;kavárně a předstírat produktivitu?Přijeď to zkusit jinak.Statek = víc vzduchu\, víc klidu\, víc reality.A možná i víc nápadů.&nbsp\;Co tě čeká~ Pracovní setup\, co ti bude závidět i PinterestUvnitř\, venku\, na slunci\, ve stínu… najdi si svůj spot.~ Kafe zdarma (ano\, opravdu)~ Focus timePřipoj se do vedených focus bloků\, anebo se&nbsp\;nalaď na svoje vlastní flow~ Lidi\, co taky něco tvoříŽádný awkward networking. Prostě skupina lidí\, co taky něco tvoří a chtějí se navzájem inspirovat.~ Společný oběd&nbsp\;Přines si vlastní krabičku nebo ti poradíme\, odkud objednat.~ Breaky bez výčitekProtáhni se v jógovně\, lehni si na trávu\, zajdi do zahrady\, vyhřívej se na terásce.Pauzy jsou potřeba!&nbsp\;Pro koho to je:– když pracuješ na něčem vlastním– když už tě nebaví klasický coworky– když cítíš\, že ti změna&nbsp\;prostředí udělá dobře– když chceš být mezi lidma\, ale ne v chaosu kavárny&nbsp\;📍 Kde: Statek Odysea\, Nuzířov 10\, Malhostovice (cca 20 min autem&nbsp\;od Brna)🕘 Kdy: pondělí 27.4. 9:30 - 17:00💸 Cena: 300 CZK\, kapacita je omezená na 14 osobProč přijít:Změníš prostředí → změní se energie → změní se\, jak pracuješ.Tady tě čeká míň tlaku a víc plynutí. Prostor na tvoje nápady a super lidi.&nbsp\;Těšíme se na Tebe!&nbsp\;
LOCATION:Malhostovice
END:VEVENT
END:VCALENDAR