BEGIN:VCALENDAR
VERSION:2.0
CALSCALE:GREGORIAN
PRODID:-//MyApp//Calendar 1.0//EN
BEGIN:VEVENT
METHOD:PUBLISH
UID:63095@regionalniportaly.cz
DTSTAMP:20260422T044137Z
DTSTART;VALUE=DATE:20260227
DTEND;VALUE=DATE:20260228
SUMMARY:VALENTÝNSKÁ HRAvent - dětská diskotéka
DESCRIPTION:Přidejte se k opakující se události\, která se bude konat vždy v poslední pátek v měsíci!Kde?Klub Kotelna\, Kuřim (u městské knihovny)Kdy?27.2.202617:00 - 18:30 HRAvent - dětská diskotéka (6-12 let)Cena:110 Kč předprodej\, 120 Kč na místědětská diskotéka prokládaná tanečními hrami\, soft drinky\, drobné občerstvení\, fotokoutekZa děti nepřebíráme zodpovědnost\, pokud je chcete mít pod dozorem\, zakupte si pro sebe také lístek. Děkujeme za pochopení.
LOCATION:Kuřim
END:VEVENT
END:VCALENDAR