BEGIN:VCALENDAR
VERSION:2.0
CALSCALE:GREGORIAN
PRODID:-//MyApp//Calendar 1.0//EN
BEGIN:VEVENT
METHOD:PUBLISH
UID:63094@regionalniportaly.cz
DTSTAMP:20260422T030611Z
DTSTART;VALUE=DATE:20260227
DTEND;VALUE=DATE:20260228
SUMMARY:VALENTÝNSKÁ 13 + party
DESCRIPTION:Přidejte se k opakující se události\, která se bude konat vždy v poslední pátek v měsíci!Kde?Klub Kotelna\, Kuřim (u městské knihovny)Kdy?27.2.2026od 19:00&nbsp\;13+ partyCena:120 Kč předprodej\, 130 Kč na místědiskotéka\, hity na přání\, míchané NEalkoholické drinky\, drobné občerstvení\, fotokoutekZa děti nepřebíráme zodpovědnost\, pokud je chcete mít pod dozorem\, zakupte si pro sebe také lístek. Děkujeme za pochopení.
LOCATION:Kuřim
END:VEVENT
END:VCALENDAR