BEGIN:VCALENDAR
VERSION:2.0
CALSCALE:GREGORIAN
PRODID:-//MyApp//Calendar 1.0//EN
BEGIN:VEVENT
METHOD:PUBLISH
UID:61978@regionalniportaly.cz
DTSTAMP:20260422T043929Z
DTSTART;VALUE=DATE:20260225
DTEND;VALUE=DATE:20260226
SUMMARY:Taneční hodiny | Divadlo Ungelt
DESCRIPTION:Jak naučit tančit autistického profesora\, který nemá rád doteky? Stačí ho poslat k tanečnici s nohou v ortéze... Romantická komedie o sblížení dvou samotářů\, jejichž silná vůle možná překoná i nepřekonatelné.\nAutor: Mark St. Germain\nRežie: Pavel Ondruch\nHrají: Miroslav Táborský\, Petra Nesvačilová
LOCATION:Kuřim
END:VEVENT
END:VCALENDAR