BEGIN:VCALENDAR
VERSION:2.0
CALSCALE:GREGORIAN
PRODID:-//MyApp//Calendar 1.0//EN
BEGIN:VEVENT
METHOD:PUBLISH
UID:61977@regionalniportaly.cz
DTSTAMP:20260422T072710Z
DTSTART;VALUE=DATE:20260205
DTEND;VALUE=DATE:20260206
SUMMARY:Igor Orozovič & Co. | Když chlap svléká tmu
DESCRIPTION:Igor Orozovič je český herec a muzikant. Člen činohry Národního divadla nořící se do piana\na zpívající. V roce 2021 úspěšně odstartoval sólovou hudební dráhu s autorským repertoárem\, který se nezříká kvalitní poezie s nadhledem\, ale přimíchává i temnější tóny\, testosteron\, elektriku a erotiku. Igorova čtyřčlenná kapela koření jeho šansonově laděné písně prvky rocku\, blues a soulu.\nIgora Orozoviče znají divadelní diváci třeba díky ikonickému muzikálu Davida Bowieho Lazarus\, autorské černé životopisné komedii Bezruký Frantík či skvělé Kytici režisérské dvojice SKUTR\, ale také díky Cabaretu Calembour\, který před lety spoluzaložil. Filmový a televizní diváci Orozoviče znají například ze seriálů Polda\, Devadesátky či filmů Jedině Tereza\, Řekni to psem\, Za vším hledej ženu či Přání k narozeninám.
LOCATION:Kuřim
END:VEVENT
END:VCALENDAR