BEGIN:VCALENDAR
VERSION:2.0
CALSCALE:GREGORIAN
PRODID:-//MyApp//Calendar 1.0//EN
BEGIN:VEVENT
METHOD:PUBLISH
UID:61976@regionalniportaly.cz
DTSTAMP:20260422T044229Z
DTSTART;VALUE=DATE:20260131
DTEND;VALUE=DATE:20260201
SUMMARY:Metalwars Fest 2026
DESCRIPTION:Zveme vás na METALWARS FEST 2026\, který se bude konat ve velkém sále kulturního domu. Těšit se můžete na:\nSCA / NedvědiceAlternative metal z temných hvozdů brány Vysočiny.TEN STICKS / BrnoHrají to co je baví a nebojí se žánrově pohybovat v různých stylech – nu-metal\, chytlavý melodie\, ale taky hardcore\, industrial\, případně metalcore. Navíc jsou jejich skladby podložený a obohacený nějakou tou elektronikou a samplama. COARSE GRAIN / Velká RoudkaMetal-hardcore. ONSET / BrnoČeská hardcore/rock’n‘rollová skupina z Brna\, která se zaměřuje na šíření dobra\, správného světového názoru a základních znalostí v oblasti aplikované neurochirurgie. Nespoutaná energie\, která vás vystřelí do oblak\, abyste s ohlušujícím rámusem zase dopadli na zem. BLACK ROW / BrnoPětičlenná kapela z Brna inspirovaná nu-metalovou érou přelomu tisíciletí.\nProgram:18:00-18:45 SCA19:15-20:00 TEN STICKS20:30-21:15 COARSE GRAIN21:45-22:30 ONSET23:00-23:45 BLACK ROW\n31. 1. / 18:00 / Kulturní dům Vstupné: předprodej 250 Kč / v den konání 300 KčVstupenky zakoupíte na www.kulturakurim.cz
LOCATION:Kuřim
END:VEVENT
END:VCALENDAR