BEGIN:VCALENDAR
VERSION:2.0
CALSCALE:GREGORIAN
PRODID:-//MyApp//Calendar 1.0//EN
BEGIN:VEVENT
METHOD:PUBLISH
UID:60264@regionalniportaly.cz
DTSTAMP:20260422T044003Z
DTSTART;VALUE=DATE:20251213
DTEND;VALUE=DATE:20251214
SUMMARY:WILD FEST - winter
DESCRIPTION:13. 12. dorazí do Kuřimi pořádná zimní jízda!WILD FEST – ZIMNÍ SCÉNA přinese do Kulturního domu energickou show\, kde vystoupí OskarSax a další hosté.Letos se můžeš těšit hlavně na známé pecky v tanečních remixech.K tomu nebude chybět Caballero cocktail bar\, gogo tanečnice a stage našlapaná efekty\, které poženou atmosféru na maximum.📅 13. 12. 2025🕘 21:00 – 2:30📍 Kulturní dům Kuřim🎫 Vstupné:Předprodej (smsticket): 100 KčNa místě: 150 KčÚčastníci kuřimského pivního kvízu: VSTUP ZDARMAAkce se koná za podpory města Kuřim.Buď u toho!
LOCATION:Kuřim
END:VEVENT
END:VCALENDAR