BEGIN:VCALENDAR
VERSION:2.0
CALSCALE:GREGORIAN
PRODID:-//MyApp//Calendar 1.0//EN
BEGIN:VEVENT
METHOD:PUBLISH
UID:59794@regionalniportaly.cz
DTSTAMP:20260422T030542Z
DTSTART;VALUE=DATE:20251122
DTEND;VALUE=DATE:20251123
SUMMARY:VIVAT VINUM! | Svatomartinská slavnost 2025
DESCRIPTION:Letos bude kuřimský svátek vína v novém. \nTěšit se můžete na bohatý kulturní program\, soutěže\, zábavu pro děti a samozřejmě přijede sv. Martin na bílém koni.
LOCATION:Kuřim
END:VEVENT
END:VCALENDAR