BEGIN:VCALENDAR
VERSION:2.0
CALSCALE:GREGORIAN
PRODID:-//MyApp//Calendar 1.0//EN
BEGIN:VEVENT
METHOD:PUBLISH
UID:58995@regionalniportaly.cz
DTSTAMP:20260422T044053Z
DTSTART;VALUE=DATE:20260228
DTEND;VALUE=DATE:20260301
SUMMARY:Slavnosti moravského uzeného v Brně 2026
DESCRIPTION:V neděli speciální dětský program a rodinné vstupné!!!!Spodní brána hradu Veveří bude v době akce v rekonstrukci. Vstup do areálu je proto možný pouze horní bránou. Pokud si zakoupíte vstupenku v předprodeji\, pomůžete urychlit odbavení a vyhnete se čekání u pokladny. Děkujeme za pomoc. Autobusem využíjte zastávku&nbsp\; U MATKY BOŽÍ!!!Vstupenky na místě do&nbsp\;vyprodání!Slavnosti moravského uzeného na hradě Veveří – 12. ročník!&nbsp\;Přijďte si užít jedinečný gurmánský zážitek s dlouholetou tradicí. V roce 2026&nbsp\;budeme&nbsp\;slavit&nbsp\;už 12. ročník této mimořádné akce\, která je jediná svého druhu v celé České republice\, možná dokonce na světě!&nbsp\;Na co se můžete těšit? Nejlepší uzenáři z celé Moravy vám představí své mistrovské uzené výrobky\, které budete moci ochutnat a zakoupit\, chystáme novou pivní zónu s vyhlášenými minipivovary.&nbsp\;K tomu se připojí vinařský stan s těmi nejlepšími víny z jižní Moravy\, která dokonale doplní chuť našich uzených specialit.&nbsp\;Nechybí ani řemeslný a food trh plný regionálních pochoutek\, a v naší food zóně se můžete těšit na vymazlená jídla z uzeného masa. Pivní nadšenci ocení ochutnávky od minipivovarů\, které přivezou to nejlepší z řemeslného piva.&nbsp\;V neděli speciální dětský program a rodinné vstupné!soutěžní ochutnávka uzeného od předních moravských podniků - hlasování o Uzenářského krále rokurodinná vinařství nabízejí svá skvělá vínasoutěž neprofesionálů o nejlepší moravské uzenérozsáhlá nabídka klobás a dalších moravských uzenářských výrobkůneděle pro rodiny s dětmijak se co dělá? moravská zabíjačka\, workshopy s mistry řezníkypolévka zdarma pro každéhosoutěže a program pro dětiZakoupením vstupenky souhlasíte s návštěvním řádem akce&nbsp\;&nbsp\;Nejčastější otázky​Doprava a místo akce&nbsp\;🔹 Doporučujeme přijet autobusem – posilové spoje jedou od ZOO Brno podle jízdního řádu. Naplní se jeden\, vyjede další.&nbsp\;Jízdní řád zde.&nbsp\;Protože je spodní brána v rekonstrukci\, na akci lze vstoupit pouze horní bránou od zastávky&nbsp\;U Matky Boží🔹 Parkování je&nbsp\; na spodní částí omezené&nbsp\; plus je zajištěno parkoviště na louce u horní brány.🔹 Vyrazte pěšky – udělejte si výlet na hrad a užijte krásnou procházku přírodou.📍 Akce se koná na hradě Veveří v Brně\,&nbsp\;viz mapka&nbsp\;​Vstup a odbavení🏰 Hrad má v rekonstrukci spodní bránu a na akci lze vstoupit pouze&nbsp\;horní bránou– často se tvoří fronty (cca 5–10 minut).🎟&nbsp\;Kupte si vstupenku v předprodeji&nbsp\;– půjdete rovnou k bráně\, kde jen ukážete vstupenku\, dostanete pásku na ruku a program. Pomůžete tak urychlit odbavení.​👥 Kdo pořádá Slavnosti moravského uzeného?Pořadatelem je spolek REFEST z.s.\, který se věnuje zvyšování kvality festivalů v ČR.​🐶 Můžu přijít se psem?Ano\, ale musí být na vodítku a mít košík.​Je akce vhodná pro vozíčkáře?Slavnosti se konají v prostředí historického hradu. Terén je výrazně členitý\, cesty nejsou zpevněné a obsahují převýšení. Povrch tvoří zejména štěrk\, kameny a přírodní podklad.&nbsp\;Vjezd do areálu i samostatný pohyb může být pro vozíčkáře velmi komplikovaný.​💳 Dá se platit kartou?U mnohých stánku se karta akceptuje\, ale stále je plno stánků pouze s hotovostí. U vstupného doporučujeme nákup SMS vstupenek v předprodeji\, abyste nemuseli čekat v případné frontě u pokladny.
LOCATION:Veverská Bítýška
END:VEVENT
END:VCALENDAR