BEGIN:VCALENDAR
VERSION:2.0
CALSCALE:GREGORIAN
PRODID:-//MyApp//Calendar 1.0//EN
BEGIN:VEVENT
METHOD:PUBLISH
UID:58912@regionalniportaly.cz
DTSTAMP:20260424T123829Z
DTSTART;VALUE=DATE:20251023
DTEND;VALUE=DATE:20251024
SUMMARY:Brněnské podzemé - VODOJEMY NA ŽLUTÉM KOPCI II.
DESCRIPTION:Tři navazující přednášky:\n23. 10. 2025 Vodojemy na Žlutém kopci II.\n26. 11. 2025 Historie a současnost Německého domu\nVodojemy na Žlutém kopci \nPřednáška objasňuje historii distribuce pitné vody v Brně a existenci vodojemů tzv. Pisáreckého vodovodu. Dechberoucí stavby z poloviny19. století byly zachráněny a zpřístupněny pro veřejnost a staly se okamžitě největší atraktivitou brněnského podzemí. Osudy tohoto zajímavého místa poznáte z mnoha různých pohledů a nebudete ani věřit co vše se ukrývalo pod trávníkem u Tvrdého ulice.\nPřednášku povede pan Aleš Svoboda\, který vystudoval pozemní stavitelství na Fakultě stavební VUT v Brně a je dnes největším odborníkem na brněnské podzemí\, jeho průzkumem se zabývá více jak 30 let.
LOCATION:Kuřim
END:VEVENT
END:VCALENDAR