BEGIN:VCALENDAR
VERSION:2.0
CALSCALE:GREGORIAN
PRODID:-//MyApp//Calendar 1.0//EN
BEGIN:VEVENT
METHOD:PUBLISH
UID:58720@regionalniportaly.cz
DTSTAMP:20260422T043939Z
DTSTART;VALUE=DATE:20251031
DTEND;VALUE=DATE:20251101
SUMMARY:Halloween party: 13+ edition
DESCRIPTION:Přidejte se k opakující se události\, která se bude konat vždy v poslední pátek v měsíci! (výjimkou je prosinec)Pokračujeme v říjnu s:HALLOWEEN PARTY: Young editionKde?Klub Kotelna\, Kuřim (u městské knihovny)Kdy?31.10.2025 (lístky budou POUZE v předprodeji)16:30 - 18:30 HRAvent kids party (6-12 let)Vstupné 110 Kčdětská HALLOWEENská diskotéka prokládaná tanečními hrami\, soft drinky\, drobné občerstvení\, fotokoutek\, soutěž o nejoriginálnější masku za hodnotné ceny&nbsp\;Předprodej na HRAvent KIDS party: https://www.smsticket.cz/vstupenky/61456-halloween-party-kids-edition?utm_campaign=smsticket-prodejni-odkaz19:00 - 21:30 13+ party (13-19 let)Vstupné 120 KčHALLOWEENská diskotéka\, hity na přání \, míchané NEalkoholické drinky\, &nbsp\;drobné občerstvení\, fotokoutek\, soutěž o nejoriginálnější masku večera za hodnotné ceny&nbsp\;Předprodej na 13+ party: https://www.smsticket.cz/vstupenky/61456-halloween-party-13-edition?utm_campaign=smsticket-prodejni-odkazZa děti nepřebíráme zodpovědnost – pokud je chcete mít pod dozorem\, zakupte si pro sebe také lístek.
LOCATION:Kuřim
END:VEVENT
END:VCALENDAR