BEGIN:VCALENDAR
VERSION:2.0
CALSCALE:GREGORIAN
PRODID:-//MyApp//Calendar 1.0//EN
BEGIN:VEVENT
METHOD:PUBLISH
UID:57836@regionalniportaly.cz
DTSTAMP:20260422T060900Z
DTSTART;VALUE=DATE:20250926
DTEND;VALUE=DATE:20250927
SUMMARY:Summer Closing Party: Young edition - TEENparty
DESCRIPTION:Přidejte se k opakující se události\, která se bude konat vždy v poslední pátek v měsíci! (výjimkou je prosinec)Začínáme již v září se:SUMMER CLOSING PARTY: Young editionKde?Klub Kotelna\, Kuřim (u městské knihovny)Kdy?26.9.202515:00 - 17:00 HRAvent kids party (6-12 let)90Kč předprodej\, 110Kč na místědětská diskotéka prokládaná tanečními hrami\, soft drinky\, drobné občerstvení\, fotokoutekPředprodej na HRAvent kids party: https://www.smsticket.cz/vstupenky/60616-summer-closing-party-young-edition-hravent-kids-party?utm_campaign=smsticket-prodejni-odkaz18:00 - 21:00 TEENparty (13-19let)jednotné vstupné 100 předprodej\, 120 na místědiskotéka\, hity na přání\, míchané NEalkoholické drinky\, drobné občerstvení\, fotokoutekPředprodej na TEENparty:&nbsp\;https://www.smsticket.cz/vstupenky/60618-summer-closing-party-young-edition-teenparty?utm_campaign=smsticket-prodejni-odkazZa děti nepřebíráme zodpovědnost\, pokud je chcete mít pod dozorem\, zakupte si pro sebe také lístek. Děkujeme za pochopení.
LOCATION:Kuřim
END:VEVENT
END:VCALENDAR