BEGIN:VCALENDAR
VERSION:2.0
CALSCALE:GREGORIAN
PRODID:-//MyApp//Calendar 1.0//EN
BEGIN:VEVENT
METHOD:PUBLISH
UID:57623@regionalniportaly.cz
DTSTAMP:20260422T044147Z
DTSTART;VALUE=DATE:20251025
DTEND;VALUE=DATE:20251026
SUMMARY:Horňáci v Dolních
DESCRIPTION:HORŇÁCI V&nbsp\;DOLNÍCHTermín: sobota 25.10.2025&nbsp\;Harmonogram akce:10:00 – 12:00 hod. – Folklórní taneční dílna 1.část (horňácké sedlácké)14:00 – 16:00 hod. – Folklórní taneční dílna 2.část (valašské sedlácké)(sál\, lektoři Pavel a Pavla Trčkovi TS Soláň)&nbsp\;15:00 – 17:00 hod. Řízená degustace a ochutnávka vín(foyer\, se zaměřením na nové odrůdy\, someliér Mirek Huňař - Žídek Popice)&nbsp\;18:00 – 20:30 hod. koncert Horňácké cimbálové muziky Petra GalečkyBěhen koncertu tři vstupy:1/ Představení podhoráckých krojů i z&nbsp\;Dolních Louček2/ Křest alba HCH Petra Galečky – Sedmero podob horňácké dívky3/ Vystoupení tanečníků verbuňku(podium na sále\, moderátorka Míša Mašková a Milan Páleš)&nbsp\;21:00 – 23:00 hod. Beseda u cimbálu s&nbsp\;Cimbálovou muzikou Kyničan+ Vystoupení Mužského sboru Kyničan10:00 – 23:00 Výstava Horňácko a Národopisná výstava Československá v&nbsp\;Praze 1895Detaily akce:Vstupné 250\,- Kč předprodej / 300\,- na místě / senioři 200\,- / krojovaní 100 Kč
LOCATION:Dolní Loučky
END:VEVENT
END:VCALENDAR