BEGIN:VCALENDAR
VERSION:2.0
CALSCALE:GREGORIAN
PRODID:-//MyApp//Calendar 1.0//EN
BEGIN:VEVENT
METHOD:PUBLISH
UID:57246@regionalniportaly.cz
DTSTAMP:20260422T030553Z
DTSTART;VALUE=DATE:20251201
DTEND;VALUE=DATE:20251202
SUMMARY:Koncert Dashy s Pájky Pájk | Vánoční koncert
DESCRIPTION:Dasha\, kterou znáte především z pořadu StarDance je zpěvačka s jedním z nejzajímavějších hlasů naší hudební scény. Držitelka ceny Thálie za rok 2010. Koncertuje se svojí domovskou kapelou\nDasha zazpívá své oblíbené skladby a naladí vás na tu správnou vánoční atmosféru. Dokonalý hudební zážitek je zaručen.
LOCATION:Kuřim
END:VEVENT
END:VCALENDAR