BEGIN:VCALENDAR
VERSION:2.0
CALSCALE:GREGORIAN
PRODID:-//MyApp//Calendar 1.0//EN
BEGIN:VEVENT
METHOD:PUBLISH
UID:57227@regionalniportaly.cz
DTSTAMP:20260422T044118Z
DTSTART;VALUE=DATE:20251211
DTEND;VALUE=DATE:20251212
SUMMARY:Scény z manželského života | Ingmar Bergman
DESCRIPTION:Milostné vztahy procházejí nejrůznějšími fázemi\nUniverzitní vědec Johan a právnička Marianne představují dokonalý manželský pár se skvělou minulostí a nadějnou budoucností. Pod tímto povrchem však číhají problémy\, které jednoho dne prolomí křehkou skořápku dlouholetého vztahu. Rozpad manželství znamená vzdalování se a opětovné bouřlivé setkávání\, nedokážou žít spolu ani bez sebe\, tajně se schází jako milenci..\nJeden z nejúpřímnějších milostných příběhů v dějinách umělecké tvorby předvádí všechny polohy milostného vztahu\, od prvotního okouzlení až po brutální rvačku. Vyjadřuje však také naději\, že ti\, co spolu prožili život\, jsou svázáni něžným poutem a jeden pro druhého se nikdy nemohou stát cizinci.\nHrají: Michaela Badinková\, Michal Dlouhý\, Kamil Halbich / Vasil Fridrich\, Barbara Lukešová / Lenka ZbrankováRežie Vladimír Strnisko
LOCATION:Kuřim
END:VEVENT
END:VCALENDAR