BEGIN:VCALENDAR
VERSION:2.0
CALSCALE:GREGORIAN
PRODID:-//MyApp//Calendar 1.0//EN
BEGIN:VEVENT
METHOD:PUBLISH
UID:57225@regionalniportaly.cz
DTSTAMP:20260422T030532Z
DTSTART;VALUE=DATE:20251107
DTEND;VALUE=DATE:20251108
SUMMARY:Hudba Praha + kapela na záver The Fusion
DESCRIPTION:Hudba Praha hraje největší hity Jasné páky a Hudby Praha jako Zákon o zachování energie\, Špinavý záda\, Pal vocuď\, Cizej chlap\, Marihuana\, Máma táta\, Můry\, Lunapark\, doplněné o písně z desky Barevný sny\, která vznikla ještě pod názvem Hudba Praha band v roce 2021. Po odchodu Michala Ambrože do hudebního nebe se však Hudba Praha band vrací opět pod název Hudba Praha.\nAkci ukončí kapela The Fusion - 60 minut
LOCATION:Kuřim
END:VEVENT
END:VCALENDAR