BEGIN:VCALENDAR
VERSION:2.0
CALSCALE:GREGORIAN
PRODID:-//MyApp//Calendar 1.0//EN
BEGIN:VEVENT
METHOD:PUBLISH
UID:57223@regionalniportaly.cz
DTSTAMP:20260422T060808Z
DTSTART;VALUE=DATE:20251021
DTEND;VALUE=DATE:20251022
SUMMARY:Jiří Pavlica\, Hradišťan & Hana a Petr Ulrychovi\, Javory Beat
DESCRIPTION:Jiří Pavlica\, Hradišťan &amp\; Hana a Petr Ulrychovi\, Javory Beat\nJiří Pavlica\, Hradišťan &amp\; Hana a Petr Ulrychovi\, Javory Beat na jednom pódiu.Po té\, co jsme v roce 2024 společně oslavili významná jubilea sourozenců Ulrychových (Petr 80 let\, Hanka 75 a 60 let na hudební scéně)\, pokračují tyto mimořádně úspěšně koncerty Hradišťanu a Javorů i letos. Agentura Top koncerty dostala opět důvěru a proto se těší na další spolupráci.Není třeba zdůrazňovat\, že obě tělesa patří mezi stálice české hudební scény. Svými písněmi přinášejí radost posluchačům už více než padesát let a za tu dobu s nimi spolupracovala řada hudebníků a zpěváků. Jiří Pavlica\, který dnes stojí v čele Hradišťanu\, byl dokonce po nějakou dobu členem skupiny Javory. Ale existují další svorníky\, především je to charakter a obsah písní\, dále jejich melodika a inspirační zdroje a v neposlední řadě je to také lidský aspekt - vlídný a upřímný přístup k posluchačům. Možná právě proto se obě kapely rozhodly koncertovat společně se speciálním programem\, ve kterém se představí nejen samostatně\, ale také ve společné části\, kde zazní nové písně i nová hudební aranžmá.
LOCATION:Kuřim
END:VEVENT
END:VCALENDAR