BEGIN:VCALENDAR
VERSION:2.0
CALSCALE:GREGORIAN
PRODID:-//MyApp//Calendar 1.0//EN
BEGIN:VEVENT
METHOD:PUBLISH
UID:57221@regionalniportaly.cz
DTSTAMP:20260422T060819Z
DTSTART;VALUE=DATE:20251013
DTEND;VALUE=DATE:20251014
SUMMARY:Mezi nebem a ženou
DESCRIPTION:Výstupy popisují z různých úhlů různé\, reálné i bizarní\, konflikty mezi mužem a ženou\, a jednotlivé měsíce v roce tvoří paralelu k vývoji lásky mezi nimi\, k jejímu vzniku\, vývoji i zániku. Někdy jde o šťastnou lásku\, jindy naopak o rozchod\, jednou o mladý pár\, jindy o starší. Nálada jednotlivých měsíců je přenášena do výstupů – leden představuje genezi lásky\, únor rozhovor milenců v posteli\, březen je pantomimou Muže a ženy na lavičce v parku atd. Scénami prostupují motivy hříšného jablka\, sexu\, pochybování o lásce\, ale i její vzývání\, jednotlivé scény se někdy dějově prolínají. Konec hry zachycuje stařenku a starouška\, kteří ulehají do postele již ne kvůli sexu\, nýbrž aby usnuli – je konec roku\, takže věčným spánkem?Divadelní spolek FrídaHrají: Diana Morová\, Martin Trnavský a Radim NovákScénář a režie: Dodo GombárHudba: Andrej KalinkaScéna: Martin Trnavský a Dodo GombárKostýmy: Diana Strauszova
LOCATION:Kuřim
END:VEVENT
END:VCALENDAR