BEGIN:VCALENDAR
VERSION:2.0
CALSCALE:GREGORIAN
PRODID:-//MyApp//Calendar 1.0//EN
BEGIN:VEVENT
METHOD:PUBLISH
UID:56458@regionalniportaly.cz
DTSTAMP:20260422T074457Z
DTSTART;VALUE=DATE:20250914
DTEND;VALUE=DATE:20250915
SUMMARY:Misterios Del Amor
DESCRIPTION:Akustický koncert v prostorách Halštatského domu – části jeskyně Býčí skála\, místa slavného archeologického nálezu z doby železné. Soubor Misterios del Amor je seskupení vynikajících hudebníků\, kteří nás přenesou do mediteránního kulturního okruhu a dávných melodií sefardské komunity. Krása starobylých písní vynikne nejen díky brilantní interpretaci\, ale také umocněná akustikou tohoto rituálního prostoru.Pokud je to nezbytné\, přineste si vlastní malé židličky\, jeskyně není běžně přístupná pro veřejnost a nejsou v ní místa k sezení.Akce se koná v prvním pásu CHKO Moravský Kras\, prosím\, dbejte toho při pohybu a parkování vozidel.Počet lístků je omezený.Koncert je benefiční: výtěžek půjde na provoz školy v Kargyaku\, nejvýše položené vesnici Malého Tibetu.Těšíme se na vás.&nbsp\;
LOCATION:Adamov
END:VEVENT
END:VCALENDAR