BEGIN:VCALENDAR
VERSION:2.0
CALSCALE:GREGORIAN
PRODID:-//MyApp//Calendar 1.0//EN
BEGIN:VEVENT
METHOD:PUBLISH
UID:55015@regionalniportaly.cz
DTSTAMP:20260422T074605Z
DTSTART;VALUE=DATE:20250609
DTEND;VALUE=DATE:20250610
SUMMARY:Listování | Historky z Tinderu II.
DESCRIPTION:NÁHRADNÍ TERMÍN ZA ZRUŠENÉ PŘEDSTAVENÍ 11. 4. 2025\nPokud se někomu nebude hodit nový termín\, peníze za vstupenky se budou vracet na pokladně KD!!!\n \nScénických čtení aneb knížka na jevišti.\n \nLiStOVáNí je zpátky na Tinderu! Protože je tam stále Lucie Macháčková\, která napsala životní pokračování svých Historek z Tinderu. Neštěstí nechodí po horách\, ale po single holkách! Lucie přichází s další várkou milostných karambolů\, vypečených historek a peprných i bláznivých příběhů ze světa randění. Ze světa\, ve kterém každý někoho hledá a občas i sám sebe. Zaručeně zlepší den a rozvibruje bránici všem\, kdo jsou zadaní\, single i něco mezi. Račte se smát!\nÚčinkují: Pavla Dostálová a Jakub Koudela\nDélka představení: 50 minut
LOCATION:Kuřim
END:VEVENT
END:VCALENDAR