BEGIN:VCALENDAR
VERSION:2.0
CALSCALE:GREGORIAN
PRODID:-//MyApp//Calendar 1.0//EN
BEGIN:VEVENT
METHOD:PUBLISH
UID:54759@regionalniportaly.cz
DTSTAMP:20260422T074554Z
DTSTART;VALUE=DATE:20250531
DTEND;VALUE=DATE:20250601
SUMMARY:Graindelavoix | Concentus moraviae 2025
DESCRIPTION:31.5\n19:30 koncert bazilika Porta coeli\, Předklášteří u Tišnova I. kategorie: 500 Kč standard / 450 Kč v TIC Tišnov do 30.5. / 400 Kč studenti\, důchodci a ZTP II. kategorie: 350 Kč standard / 300 Kč v TIC Tišnov do 30.5. / 250 Kč studenti\, důchodci a ZTP Slavnostní zahajovací koncert jubilejního 30. ročníku festivalu Concentus Moraviae\nGraindelavoixTeodora Tommasi\, Florencia Menconi\, Andrew Hallock\, Albert Riera\, Marius Peterson\, Tomàs Maxé\, Arnout MalflietBjörn Schmelzer / umělecký vedoucí\nContre NatureKoncerty vokálního ansámblu Graindelavoix jsou vždy dobrodružstvím\, cestováním v čase\, rock’n rollem i archaickým rituálem zároveň. Soubor a jeho vedoucí Björn Schmelzer chápou pozdní středověk jako prudce moderní dobu. Belgický komorní sbor se věnuje zapomenutým pokladům hudební epochy\, která se zdá být nekonečně vzdálená a zároveň velmi blízká\, s nadpozemsky dokonalou harmonií i přísně individuálními hlasy.\nKoncert pořádá festival Concentus Moraviae ve spolupráci s městem Tišnov a MěKS Tišnov.\nProgram:Guillaume de MachautSanctus (Messe de Nostre Dame)SolageFumeux fumeMatteo da PerugiaHélas AvrilMattheus de Sancto JohanneScience na nul annemiGuillaume de MachautAgnus Dei (Messe de Nostre Dame)Phillipot de CasertaEspoir dont tu m’a fayt partirJohannes CiconiaLe ray au soleylGaliot (Giangaleazzo Visconti?)En atendant d’amerJean HanelleHodie puer nascitur/Homo Mortalis\nVSTUPENKY na tento koncert za spe
LOCATION:Předklášteří
END:VEVENT
END:VCALENDAR