BEGIN:VCALENDAR
VERSION:2.0
CALSCALE:GREGORIAN
PRODID:-//MyApp//Calendar 1.0//EN
BEGIN:VEVENT
METHOD:PUBLISH
UID:54226@regionalniportaly.cz
DTSTAMP:20260422T092637Z
DTSTART;VALUE=DATE:20250710
DTEND;VALUE=DATE:20250711
SUMMARY:Michal Pavlíček & Monika Načeva & Pavel Bořkovec quartet
DESCRIPTION:🎸 10. 7. – Monika Načeva\, Michal Pavlíček &amp\; Pavel Bořkovec kvartet Hudební zážitek pro náročné uši i otevřená srdce.\n🎸 Magická kombinace hlasu\, kytary a smyčců\, která promění zámek v klub pod hvězdami\n🎼 10. 7. / Zámek Kuřim\n🎟 Vstupenky k zakoupení od 30. 4. 2025\n🎟 450\,- v předprodeji / 530 v den akce\n#KulturniLeto2025 #ZazijteKurim #NaseKurim #kulturaspojuje
LOCATION:Kuřim
END:VEVENT
END:VCALENDAR