BEGIN:VCALENDAR
VERSION:2.0
CALSCALE:GREGORIAN
PRODID:-//MyApp//Calendar 1.0//EN
BEGIN:VEVENT
METHOD:PUBLISH
UID:54225@regionalniportaly.cz
DTSTAMP:20260422T074621Z
DTSTART;VALUE=DATE:20250626
DTEND;VALUE=DATE:20250627
SUMMARY:Cirk La Putyka | SPLASH | Kulturní léto
DESCRIPTION:Napětí\, smích i dechberoucí podívaná. Cirkus nové generace přijíždí do Kuřimi.\nNové představení Cirk La Putyka Splash není jen o hledání fyzické mladosti\, ale také o znovuobjevení dětské radosti a síly okamžiku.\nAkrobacie\, humor\, hudba a nezapomenutelné obrazy vás provedou světem plným překvapení\, zábavy a osvěžení\n🎪 Čtvrtek 26. 6. v 18:00 / Zámek Kuřim.\n🎟 Vstupenky v prodeji od 30. 4.\n🎟 Základní vstupenka 700 Kč\, zvýhodněná (děti\, senioři) 500\n#KulturniLeto2025 #ZazijteKurim #NaseKurim #kulturaspojuje
LOCATION:Kuřim
END:VEVENT
END:VCALENDAR