BEGIN:VCALENDAR
VERSION:2.0
CALSCALE:GREGORIAN
PRODID:-//MyApp//Calendar 1.0//EN
BEGIN:VEVENT
METHOD:PUBLISH
UID:54135@regionalniportaly.cz
DTSTAMP:20260422T105721Z
DTSTART;VALUE=DATE:20250512
DTEND;VALUE=DATE:20250513
SUMMARY:Cestopisná přednáška - Nejkrásnější stezky Španělska
DESCRIPTION:Nejkrásnější stezky Španělska - 3500km pěšky i na kole \nPěšky nebo v sedle kola? Sólo nebo s parťákem? Jak nejlépe objevovat svět? \nVydejte se na dobrodružnou cestu s Martinou Merisi napříč Španělskem\, kde každý kilometr vypráví příběh. Ve stopách poutníků do mystické Galicie\, přes rozpálené pláně Via de la Plata do žhavé Andalusie. Zažijte něhu a nekonečno v nádherných Pyrenejích\, objevte půvab drsných štítů Picos de Europa i zapomenutý ráj Asturie: Národní park Somiedo\, kde se v tyrkysových jezerech zrcadlí nebe a v lesích se toulají medvědi. \nSilné příběhy\, vtipné krizovky i chvíle absolutního štěstí. Kde se člověk cítí svobodnější – v sedle kola\, nebo s batohem na zádech? Dá se Kerouacova meditace stezky zažít i při dupání do pedálů? A jak vás taková cesta změní?\nPřijďte se zasnít\, pobavit a inspirovat ke své vlastní cestě. Protože některé otázky si člověk musí odšlapat sám. ✨🚴‍♀️🥾
LOCATION:Kuřim
END:VEVENT
END:VCALENDAR