BEGIN:VCALENDAR
VERSION:2.0
CALSCALE:GREGORIAN
PRODID:-//MyApp//Calendar 1.0//EN
BEGIN:VEVENT
METHOD:PUBLISH
UID:54092@regionalniportaly.cz
DTSTAMP:20260422T074448Z
DTSTART;VALUE=DATE:20250622
DTEND;VALUE=DATE:20250623
SUMMARY:Lomnice SOBĚ-Javory\, UmCaCa\, Rooty Shooters\, Veru Hajníková
DESCRIPTION:Nedělní odpoledne patří hudbě! Během dne vystoupí např. tišnovská kapela UmCaCa\, která nezapomenutelným způsobem interpretuje světové hity a vkusně je doplňuje vlastní tvorbou\, brněnská western swingová kapela Rooty Shooters\, která strhujícím způsobem roztančí publikum\, písničkářka Veru Hajníková\, která přijede z nedaleké Nedvědice a potěší nás vlastní tvorbou za doprovodu excelentního kytaristy Marka Kubáta\, ale především budeme pozornost upínat ke stálicím české hudební scény. Javory s Hanou a Petrem Ulrychovými\, zahrají v doprovodu velké kapely s nádechem moravského folkloru.
LOCATION:Lomnice
END:VEVENT
END:VCALENDAR