BEGIN:VCALENDAR
VERSION:2.0
CALSCALE:GREGORIAN
PRODID:-//MyApp//Calendar 1.0//EN
BEGIN:VEVENT
METHOD:PUBLISH
UID:53303@regionalniportaly.cz
DTSTAMP:20260422T105311Z
DTSTART;VALUE=DATE:20250416
DTEND;VALUE=DATE:20250417
SUMMARY:Posezení s písničkou
DESCRIPTION:Oblíbené každoměsíční setkání pro seniory. Každé má navíc určité téma! Prodej vstupenek a vstup do sálu od 15:15. Začínáme v 16:00a o hudební doprovod se stará Jiří Nečas\nVstupné 50 Kč. 
LOCATION:Kuřim
END:VEVENT
END:VCALENDAR