BEGIN:VCALENDAR
VERSION:2.0
CALSCALE:GREGORIAN
PRODID:-//MyApp//Calendar 1.0//EN
BEGIN:VEVENT
METHOD:PUBLISH
UID:53220@regionalniportaly.cz
DTSTAMP:20260424T120651Z
DTSTART;VALUE=DATE:20250414
DTEND;VALUE=DATE:20250415
SUMMARY:Velikonoční babské rady s cimbálem
DESCRIPTION:Vstupné150 KčPořadatelSKC Kuřim\n \nZážitková beseda \nZážitková beseda ke knize "Babské rady" s moderátorkou Jarkou Vykoupilovou\, kterou zpěvem a hrou na cimbál doprovodí folklórní redaktor Jarda Kneisl.\nV rámci besedy stolová úprava s možností zakoupení malého občerstvení. 
LOCATION:Kuřim
END:VEVENT
END:VCALENDAR