BEGIN:VCALENDAR
VERSION:2.0
CALSCALE:GREGORIAN
PRODID:-//MyApp//Calendar 1.0//EN
BEGIN:VEVENT
METHOD:PUBLISH
UID:52909@regionalniportaly.cz
DTSTAMP:20260422T060747Z
DTSTART;VALUE=DATE:20251003
DTEND;VALUE=DATE:20251004
SUMMARY:Poutníci - 55 let na Country scéně
DESCRIPTION:Hudební skupina Poutníci oslaví v roce 2025 výročí a sice 55 let od svého vzniku\,a toto jubileum bude celoročně slavit s pořadem :\,\,55 let na Country scéně.“Tento pořad odehraje kapela s bendžistou Petrem Voštou\, zpěvákem Jakubem Bílým. To jsou ti mladší současní Poutníci. Ti starší současníci jsou Jan Máca\, mandolína a zpěv a Jiří Pola – Karas\, hráč na elektrický kontrabas\, zpěvák a kapelník.Soubor vydal za dobu svojí činnosti 16 CD nebo LP\, poslední nosič si kapela produkovala sama a jmenuje se „ Stíny na střechách.“Toto CD je složené z novinek\, jenž napsali sami současní poutničtí hudebníci. Jedinou výjimkou\, co se týče dlouhověkosti\, je úvodní píseň\, podle které se deska jmenuje. Tu otextoval pan Josef Prudil\,bývalý spíkr kapely a textař\, který už bohužel není mezi námi. K většině nových skladeb napsal slova na zmíněném CD textař z Trutnova – David KonopáčTaké v roce 2025 se skupina bude snažit odehrát opět co nejvíce vystoupení\, jak v Česku tak i na Slovensku či v jiné zahraniční zemi.Skupina také s příchodem Petra Vošty chystá nové písničky z jeho dílny. Vrcholem celoročních oslav 55tého výročí kapely by měl být společný koncert 4.12.2025 v Brně s Robertem Křesťanem a skupinou Trapeři.Program poutnického oslavného vystoupení je tvořen z písní z CD \,\, Stíny na střechách.“ Ale hlavně z poutnických hitů z nosičů\, které kapela za svou historii vydala\,jako jsou skladby Panenka\, Pojďme se napít či Hotel Hillary a řada jiných a které pro kapelu napsal její bývalý člen Robert Křesťan a současný kapelník Jiří Pola.O spoustě těchto písní se dá říct\, že u nás zlidověly.A právě tyto na vás budou čekat během koncertu Poutníků s názvem „ 55 let na Country scéně.“
LOCATION:Lažany
END:VEVENT
END:VCALENDAR