BEGIN:VCALENDAR
VERSION:2.0
CALSCALE:GREGORIAN
PRODID:-//MyApp//Calendar 1.0//EN
BEGIN:VEVENT
METHOD:PUBLISH
UID:52676@regionalniportaly.cz
DTSTAMP:20260422T092551Z
DTSTART;VALUE=DATE:20250422
DTEND;VALUE=DATE:20250423
SUMMARY:Jaro Na Talíři
DESCRIPTION:Zážitková přednáška v interaktivní místnosti knihovny.\nTémata přednášky:\nsvěží jarní saláty a lahodné drsinkyvýživná smoothie s divokými bylinkamiatraktivní úprava zeleninymisky hojnosti (Buddha Bowls)praktické tipy na lehkou výživnou stravujak dětem usnadnit cestu ke zdravému talířiSoučástí přednášky bude ochutnávka.\nÚčastníci obdrží recepty zdravých pokrmů a bude pro ně připravena ukázka knih s touto tématikou z fondu knihovny.\nLektorka: Mgr Andrea Hrušková
LOCATION:Kuřim
END:VEVENT
END:VCALENDAR