BEGIN:VCALENDAR
VERSION:2.0
CALSCALE:GREGORIAN
PRODID:-//MyApp//Calendar 1.0//EN
BEGIN:VEVENT
METHOD:PUBLISH
UID:52675@regionalniportaly.cz
DTSTAMP:20260424T081032Z
DTSTART;VALUE=DATE:20250408
DTEND;VALUE=DATE:20250409
SUMMARY:Hurvínek a nezvaný host
DESCRIPTION:Představte si\, že u vás jednoho dne zaklepe nezvaný host. Nejenže je nezvaný\, ale navíc je úplně jiný než kdokoliv a cokoliv\, co znáte. A to se přesně stane u Spejblů. Z ničeho nic u nich bydlí Člunozobec a Spejbl s Hurvínkem jsou rázem podnájemníci ve vlastním bytě. Protože má Člunozobec opravdu nezvyklé potřeby a rituály\, není možné s ním společný prostor sdílet. Jenže Člunozobec všechno ví\, všude byl a neplatí na něj žádné logické argumenty\, se kterými na něj Spejbl vyrukuje. Za to Hurvínek\, ten si ví vždycky rady\, na něj je i Člunozobec krátký a nebo je to naopak?\nDivadlo Spejbla a HurvínkaRežie | kolektiv\nAutor | Miki Kirschner | Jana Kubíčková\nScénografie | David Janošek\nNávrh loutek | Miki Kirschner\nVýroba loutek člunozobce a speciální efekty | Flash Barrandov\nHudba | Jiří ŠkorpíkLoutky mluví:Mánička\, Bábinka\, Člunozubka | Jana Mudráková\nSpejbl a Hurvínek\, Žeryk\, Člunozubec | Martin TrechaLoutky vodí:Spejbl | Matěj Kopecký/ Jakub Šafránek\nHurvínek | Michal Barták\nMánička | Michaela Jandlová\nBábinka | Ája Macháčková/ Zita Morávková\nŽeryk | Jan LevýČlunozubec | Barbora Dobišarová/ Adolf MendelhofVhodné pro děti od 4 letProdej vstupenek bude spuštěn 3. 2. v 9:00
LOCATION:Kuřim
END:VEVENT
END:VCALENDAR