BEGIN:VCALENDAR
VERSION:2.0
CALSCALE:GREGORIAN
PRODID:-//MyApp//Calendar 1.0//EN
BEGIN:VEVENT
METHOD:PUBLISH
UID:52143@regionalniportaly.cz
DTSTAMP:20260422T183744Z
DTSTART;VALUE=DATE:20250320
DTEND;VALUE=DATE:20250321
SUMMARY:DIVADLO MIKRO-TEATRO PRO DĚTI | Vrbky se nám zelenají
DESCRIPTION:Divadlo Mikro-teatro s pohádkou pro děti VRBKY SE NÁM ZELENAJÍ v interaktivní místnosti knihovny.\nVhodné pro děti od 5+.Vrbky se nám zelenají\nSpící příroda se pomalu probouzí k novému rozkvětu. Smrt je překonána a přichází další etapa života. Mrazivou Moranu ale ještě pro jistotu musíme hodit do řeky\, aby se nám nevrátila. „Byla zima mezi námi\, ale už je za horami! Radujme se!“ A co naše Semínko?Probudí se? Pojďte spolu se sestřičkami Věrkou a Zorkou oslavit radostný příchod jara\, protančit tradicemi od masopustu až po Velikonoce. Dozvíte se například\, proč držíme před Velikonocemi půst\, proč je škaredá středa škaredá\, jestli se na Velký pátek opravdu otevírají poklady a jak to vypadá\, když zvony odlétají do Říma.\nV zimě v zemi všechno spí\,Na jaře se probudí\,A ta Země MaminkaVychová nám semínka\nDěkujem ti\, Země milá\,Žes to zrnko v sobě skrylaProsíme tě\, sluníčko\,Zahřejvej nám zrníčko\nRežie: Gabriela ŽenatáHrají: Alžbeta Vaculčiaková a Veronika VšianskáProdukční spolupráce: Tereza Brlicová
LOCATION:Kuřim
END:VEVENT
END:VCALENDAR