BEGIN:VCALENDAR
VERSION:2.0
CALSCALE:GREGORIAN
PRODID:-//MyApp//Calendar 1.0//EN
BEGIN:VEVENT
METHOD:PUBLISH
UID:51994@regionalniportaly.cz
DTSTAMP:20260422T074636Z
DTSTART;VALUE=DATE:20250621
DTEND;VALUE=DATE:20250622
SUMMARY:HANDEC FEST 2025
DESCRIPTION:Zveme na HANDEC FEST do&nbsp\;Kuřimi\, 12. ročník hard-rockového festivalu.&nbsp\;Sobota 21. června 2025 od 18:00hKuřim\, ul. Sportovní – prostranství před sportovní halouVstupné 300&nbsp\;Kč na místě\, v předprodeji přes smsticket POUZE&nbsp\;200 Kč (při nákupu do 01.06.2025).&nbsp\;Děti do 15 let vstup zdarma. Více na&nbsp\;www.handecfest.cz&nbsp\;Připrav&nbsp\;se na pořádnou dávku čtyř&nbsp\;originálních kapel českého rocku. Skvělé kapely DUNAJ\, HELMUTOVA STŘÍKAČKA\, ŠKAREDÁ HOLKA nebo KROUNEX&nbsp\;rozproudí atmosféru v nabitém programu.
LOCATION:Kuřim
END:VEVENT
END:VCALENDAR