BEGIN:VCALENDAR
VERSION:2.0
CALSCALE:GREGORIAN
PRODID:-//MyApp//Calendar 1.0//EN
BEGIN:VEVENT
METHOD:PUBLISH
UID:51833@regionalniportaly.cz
DTSTAMP:20260422T092625Z
DTSTART;VALUE=DATE:20250524
DTEND;VALUE=DATE:20250525
SUMMARY:Kuřimská muzejní noc 2025 | Štola
DESCRIPTION: Již třetí muzejní noc v Kuřimi! V rámci této akce bude otevřená kuřimská štola\, knihovna a kino.\n ŠtolaDobrodružná stezka s úkoly zavede návštěvníky k historické štole. Stezka obsahuje pět zastavení s tematickými úkoly\, jejichž splnění bude odměněno drobnými cenami. Štola bude volně přístupná od 18:00 do 22:00. Atmosféra ve štole bude dokreslena profesionálním nasvícením jednotlivých informačních panelů.\n ExpoziceKuřim - na spojnici cest. Volně přístupná výstava o historii města. (18:00–22:00). Návštěvníci budou mít možnost zhlédnout výstavu o historii města Kuřim\, která nabídne zajímavé informace a artefakty přibližující významné milníky spojené s městem.\n Knihovna: „Noc mezi řádky“Tajemství strašidelné knihovny: (18:00–22:00) – Stezka odvahy v dětském oddělení pro malé i velké milovníky napětí.Scénické čtení (18:30) – Dramatické zpracování literárních textů v podání žáků ZUŠ Kuřim Listování českou literaturou (20:00) – Literární kvíz zaměřený na českou literaturu (oddělení pro dospělé).Tvořivá dílna (18:00–22:00) – Kreativní prostor pro návštěvníky všech věkových kategorií.\n Kino:Promítání: pásmo krátkých filmů Pohádky z hor (18:00)EOS: Moje Národní galerie v Londýně (20:00)
LOCATION:Kuřim
END:VEVENT
END:VCALENDAR