BEGIN:VCALENDAR
VERSION:2.0
CALSCALE:GREGORIAN
PRODID:-//MyApp//Calendar 1.0//EN
BEGIN:VEVENT
METHOD:PUBLISH
UID:51832@regionalniportaly.cz
DTSTAMP:20260422T092620Z
DTSTART;VALUE=DATE:20250425
DTEND;VALUE=DATE:20250426
SUMMARY:Zájezd: Flora Olomouc 2025 | Kuřim
DESCRIPTION: Největší svátek květin aneb mezinárodní květinová a zahradnická výstava Flora Olomouc 2025.  Cena zájezdu: 450 Kč/os. (v ceně: autobus a vstupenka na Flora Olomouc 2025)  Prodej zájezdu pouze na pokladně kulturního domu od 19.2.2025\nKapacita omezena!
LOCATION:Kuřim
END:VEVENT
END:VCALENDAR