BEGIN:VCALENDAR
VERSION:2.0
CALSCALE:GREGORIAN
PRODID:-//MyApp//Calendar 1.0//EN
BEGIN:VEVENT
METHOD:PUBLISH
UID:51831@regionalniportaly.cz
DTSTAMP:20260422T171330Z
DTSTART;VALUE=DATE:20250320
DTEND;VALUE=DATE:20250321
SUMMARY:Jazzový večer
DESCRIPTION:V kinosále kulturního domu ve čtvrtek 20. 3. 2025 večer zahraje Jazzové trio Géraldine Schnyder\, Jiří Slavík a Vilém Spilka.Géraldine Schnyder pochází ze Švýcarska\, kde vystudovala jazzový zpěv na akademii v Bernu. Aktuálně žije v Brně a učí v soukromé škole Kohútek a na Janáčkově akademii múzických umění. Její žánrový záběr sahá od swingu po pop a v celé jeho šíři se pohybuje s lehkostí a bravurou. Má za sebou dlouholeté působení v kapelách Heart of Dixie nebo Géri a Jaštéři. Hostuje také s Cotatcha Orchestra\, Vincencem Kummerem a dalšími nejen brněnskými hudebníky.Jiří Slavík se před desíti lety přestěhoval zpět do rodné České republiky. Od svých čtrnácti let žil\, studoval\, hrál a nahrával v zahraničí\, postupně v Itálii\, Anglii a ve Francii. Nyní žije v Praze\, vyučuje na obou hudebních akademiích v ČR (JAMU v Brně a HAMU v Praze) a nově i na akademii v Linci. Je vyhledávaným spolupracovníkem mnoha umělců\, především z jazzové oblasti. Pohybuje se však i hluboce mimo ni\, za crossoverové folklórní album Mateřština\, které na všechny nástroje nahrál zcela sám\, získal cenu Anděla a se svojí aktuální kapelou The Survivors experimentuje mj. s jamajským reggae. Dnes jej uvidíme hrát na klávesové nástroje.Vilém Spilka vystudoval Hudební fakultu JAMU\, v rámci studia absolvoval stáž na University of North Texas v Dentonu (USA). V roce 2002 spoluzaložil festival JAZZFESTBRNO. Kromě kulturně-organizační činnosti Vilém paralelně působí jako muzikant v různých kontextech. V roce 2013 založil formaci Vilém Spilka Quartet\, se kterou natočil dvě alba. Obě\, Podvod (2016) i následující plně autorské album Čekání na Toma (2019) byly nominovány na cenu Anděl. S novou formací SAKOBI\, kde působí jako kontrabasista\, debutoval v roce 2024 albem Banzai! Na kontrabas zahraje i při příležitosti tohoto výjimečného hudebního setkání.
LOCATION:Kuřim
END:VEVENT
END:VCALENDAR