BEGIN:VCALENDAR
VERSION:2.0
CALSCALE:GREGORIAN
PRODID:-//MyApp//Calendar 1.0//EN
BEGIN:VEVENT
METHOD:PUBLISH
UID:51829@regionalniportaly.cz
DTSTAMP:20260422T200759Z
DTSTART;VALUE=DATE:20250318
DTEND;VALUE=DATE:20250319
SUMMARY:O Zlaté rybce | Zábava pro děti
DESCRIPTION: Klasická marionetami hraná pohádka\, o tom jak se chudý rybář Giuseppe a jeho žena Margarita zapletou s kouzelnou rybou. A o tom\, co z toho nakonec přes chalupy\, vily\, hrady a paláce vzejde? Budou potrestáni\, nebo dojdou pochopení a moudrosti?  Dřevěné divadlo  Vhodné pro děti od 3 let.  18. 3. / 17:00 / v kinosále kulturního dmu  Vstupenky v prodeji od 17. 2. 2025
LOCATION:Kuřim
END:VEVENT
END:VCALENDAR