BEGIN:VCALENDAR
VERSION:2.0
CALSCALE:GREGORIAN
PRODID:-//MyApp//Calendar 1.0//EN
BEGIN:VEVENT
METHOD:PUBLISH
UID:51176@regionalniportaly.cz
DTSTAMP:20260422T171132Z
DTSTART;VALUE=DATE:20250303
DTEND;VALUE=DATE:20250304
SUMMARY:Cestopisná přednáška  - Pěšky kolem Česka
DESCRIPTION:Povídání s Petrem Nazarovem o putování "Jižní stezkou" z nejvýchodnějšího bodu České republiky u Mostů u Jablunkova přes Beskydy\, Javorníky\, Bílé Karpaty\, Novohradské hory\, Šumavu a Český les do nejzápadnějšího bodu u Aše\, na trase dlouhé 1036 km. Společná pěší túra s parťákem - boarder kolií Bublinou.
LOCATION:Kuřim
END:VEVENT
END:VCALENDAR