BEGIN:VCALENDAR
VERSION:2.0
CALSCALE:GREGORIAN
PRODID:-//MyApp//Calendar 1.0//EN
BEGIN:VEVENT
METHOD:PUBLISH
UID:51174@regionalniportaly.cz
DTSTAMP:20260422T183941Z
DTSTART;VALUE=DATE:20250226
DTEND;VALUE=DATE:20250227
SUMMARY:Hrady\, zámky a tvrze
DESCRIPTION:
LOCATION:Kuřim
END:VEVENT
END:VCALENDAR