BEGIN:VCALENDAR
VERSION:2.0
CALSCALE:GREGORIAN
PRODID:-//MyApp//Calendar 1.0//EN
BEGIN:VEVENT
METHOD:PUBLISH
UID:50773@regionalniportaly.cz
DTSTAMP:20260422T200740Z
DTSTART;VALUE=DATE:20250226
DTEND;VALUE=DATE:20250227
SUMMARY:Hrady\, Zámky a Tvrze | Od Tišnova Přes Nový Hrad k Brnu
DESCRIPTION:Beseda v interaktivní místnosti knihovny.\nBeseda s panem Jiřím Vymětalíkem o pohledech do historie panských obydlí od středověku po dnešek. Dochované i zaniklé hrady\, tvrze\, zámky a opevněná sídla od Tišnova přes Nový hrad k Brnu.
LOCATION:Kuřim
END:VEVENT
END:VCALENDAR