BEGIN:VCALENDAR
VERSION:2.0
CALSCALE:GREGORIAN
PRODID:-//MyApp//Calendar 1.0//EN
BEGIN:VEVENT
METHOD:PUBLISH
UID:50645@regionalniportaly.cz
DTSTAMP:20260424T092518Z
DTSTART;VALUE=DATE:20250426
DTEND;VALUE=DATE:20250427
SUMMARY:BLUES POD MOSTEM
DESCRIPTION:BLUES POD MOSTEM&nbsp\;Festival rockové hudby\, která vychází z blues. Festival proběhne v sobotu 26. dubna 2025 v Dolních Loučkách v místní Orlovně.&nbsp\;Vystoupí kapely:18:00 hod.: Backsight19:30 hod.: Domalis &amp\; Oralis20:30 hod.: Bluesweiser22:00 hod.: bluessejšnFestival navazuje na koncerty Bluesová pomlázka v kulturním domě v Železném. Převzali jsme koncept tří vystupujích skupin a přidali navíc odpolední Bluesovou dílnu\, kterou povede lektor Ivo Gryc. Místní hudebníci budou mít možnost se naučit a secvičit tři písničky.Ty potom v rámci závěrečného „bluessejšnu“ zahrají na podiu s profesionálními muzikanty pro všechny návštěvníky festivalu. Blues je postaveno na 12 taktech\, a proto bude na sále ochutnávka několika pivních dvanáctek z regionálních pivovarů.&nbsp\;BACKSiGHTpůsobí na hudební scéně od roku 2004 a v jejím repertoáru se objevují různá žánrová zaměření převážně související s bluesrockem. Repertoár kapely obsahuje především vlastní tvorbu a nějaké ty bluesové standardy. Kapela se vícekrát probojovala do finále známé soutěže Blues Aperitiv v Šumperku. BACKSiGHT vypustili do světa 3 alba\, v roce 2018 vydali první živé album\, natočené ve studiu Stará Pekárna\, z něhož se pár skladeb objevilo mj. i ve vysílání jihoamerického či polského rádia. Zvláštností uskupení je\, že polovinu bicích hraje kytarista (kopák\,tamburínka) a druhou harmonikář (virbl). Otakar Šamánek – kytary\, zpěv\; Jiří Gruber – kytary a bicí nástroje\; Martin crysman Zahradník – foukací harmonika\, zpěv a bicí nástroje\; Jakub Fiala – basová bezpražcová kytara.Domalis &amp\; Oralis&nbsp\;&nbsp\;&nbsp\;&nbsp\;&nbsp\; Nejnovější jméno na českomoravské blues-folkové scény duo Domalis &amp\; Oralis\, je společný projekt moravského bluesového písničkáře Jana Fice a kytaristy pražské alternativní rockové kapely DPvJU Maxe Brauna. Výhradně akustické duo se rozhodlo na bázi nových originálních písní testovat nejrůznější souzvuky akustických nástrojů (akustické a resofonické kytary\, cigar box\, banjo\, ukulele\, buzuki apod.).BluesweiserBluesweiser je jednou z nejen nejstarších\, ale také nejlepších bluesových kapel na Slovensku. Byť označení „bluesová“ je v současné době poněkud zavádějící. Žánr\, kterému leckteří vytýkají – ať už více či méně oprávněně – konzervativismus\, „uzavření se ve dvanácti taktech“\, Bluesweiser překračuje všemi směry. V čele kapely stojí dvě výrazné osobnosti (obě v minulosti ověnčené titulem Bluesman roku\, který každoročně uděluje Slovenská bluesová spoločnosť)\, jejichž kooperace určuje stylovou skládačku projevu Bluesweiseru. Kytarista\, zpěvák a textař Juraj Turtev\, pověstný šíří svého záběru (hraje v několika dalších kapelách) přichází s originálním pěveckým projevem\, který nese naprosto osobité texty\, vesměs zcela zbavené tradičních bluesových klišé. Kytarista a skladatel Ivan Tomovič je jedním z největších mistrů svého instrumentu na Slovensku\, jeho přístup k němu je podobný například Vernonu Reidovi: technická dokonalost nepřebíjí cítění žánru a zároveň neustálou chuť objevovat nové cesty. Bluesweiser jako celek\, pohybující se kdesi na hraně elektrického blues\, funky\, rocku\, ale i se stopy jazzu či alternativy\, je především velkou koncertní atrakcí\, kterou není radno si nechat ujít.&nbsp\;&nbsp\;
LOCATION:Dolní Loučky
END:VEVENT
END:VCALENDAR