BEGIN:VCALENDAR
VERSION:2.0
CALSCALE:GREGORIAN
PRODID:-//MyApp//Calendar 1.0//EN
BEGIN:VEVENT
METHOD:PUBLISH
UID:50590@regionalniportaly.cz
DTSTAMP:20260422T110900Z
DTSTART;VALUE=DATE:20250429
DTEND;VALUE=DATE:20250430
SUMMARY:Kuřimské kulturní činy
DESCRIPTION: Víte o někom\, kdo v roce 2024 přispěl k rozvoji kultury v Kuřimi? Hlasujte v anketě a přijďte na slavností vyhlášení Kuřimských kulturních činů!  Smyslem ankety je najít a vyzvednout takové činy a aktivity ve městě\, které jsou dobrým příkladem pro ostatní občany města\, zvyšují prestiž města\, pomáhají rozvoji kultury v Kuřimi a kultivují jeho prostředí.  Nominace kandidátů do ankety Kuřimské kulturní činy (zkráceně KuKuČ) za rok 2024 budou probíhat od 27. 1. do 3. 3. 2025. Hlasovací formuláře a hlasovací schránky naleznete v kulturním domě\, v Klubu seniorů\, v knihovně a na městském úřadě. Hlasovat můžete také elektronicky na email: jonasova@kurim.cz (formulář bude ke stažení na www.kulturkurim.cz).  Slavnostní večer s vyhlášením výsledků ankety se uskuteční 29. 4. 2025 v 18:00 v kulturním domě.
LOCATION:Kuřim
END:VEVENT
END:VCALENDAR