BEGIN:VCALENDAR
VERSION:2.0
CALSCALE:GREGORIAN
PRODID:-//MyApp//Calendar 1.0//EN
BEGIN:VEVENT
METHOD:PUBLISH
UID:50589@regionalniportaly.cz
DTSTAMP:20260422T092732Z
DTSTART;VALUE=DATE:20250415
DTEND;VALUE=DATE:20250416
SUMMARY:Sportovec roku
DESCRIPTION: Zveme vás na slavnostní vyhlášení ankety Sportovce roku města Kuřimi. Těšit se můžete na doprovodný program.  Nominace kandidátů do ankety Sportovec roku za rok 2024 budou probíhat od 3. 2. do 3. 3. 2025. Hlasovací formuláře a hlasovací schránky naleznete v kulturním domě\, v Klubu seniorů\, v knihovně a na městském úřadě. Hlasovat můžete také na: http://www.kurim.cz/.../sport/anketa-sportovec-roku.html  Slavnostní večer s vyhlášením výsledků ankety se uskuteční 15. 4. 2025 v 18:00 v kulturním domě.
LOCATION:Kuřim
END:VEVENT
END:VCALENDAR