BEGIN:VCALENDAR
VERSION:2.0
CALSCALE:GREGORIAN
PRODID:-//MyApp//Calendar 1.0//EN
BEGIN:VEVENT
METHOD:PUBLISH
UID:50588@regionalniportaly.cz
DTSTAMP:20260422T171321Z
DTSTART;VALUE=DATE:20250301
DTEND;VALUE=DATE:20250302
SUMMARY:Kuřimský Masopust
DESCRIPTION: V sobotu 1. března se uskuteční tradiční Kuřimský masopust.   Ráno se masky sejdou poprvé před kulturním domem a vyrazí na obchůzku po městě.  Od 10:00 bude na náměstí 1. května probíhat domácí zabijačka a prodej dalších dobrot a specialit. Zde se také ve 13 hodin znovu sejdou všechny masky a vyrazí do průvodu ke kostelu a zámku.  Na zámeckém nádvoří si masky zatančí\, občerství se a průvod se vrátí na náměstí 1. května\, kde se budou vyhlašovat nejhezčí dětské masky.  Večer se koná Masopustní veselice v kulturním domě\, kterou pořádá Kuřimský dámský klub.
LOCATION:Kuřim
END:VEVENT
END:VCALENDAR