BEGIN:VCALENDAR
VERSION:2.0
CALSCALE:GREGORIAN
PRODID:-//MyApp//Calendar 1.0//EN
BEGIN:VEVENT
METHOD:PUBLISH
UID:50375@regionalniportaly.cz
DTSTAMP:20260422T155952Z
DTSTART;VALUE=DATE:20250222
DTEND;VALUE=DATE:20250223
SUMMARY:Slavnosti moravského uzeného a vína
DESCRIPTION:11. Slavnosti moravského uzeného a vína se uskuteční v termínu 22. a 23. února 2025 opět na hradě Veveří. \n☝Vstupenky jsou již v prodeji!\nVíce informací naleznete také v našem článku.
LOCATION:Veverská Bítýška
END:VEVENT
END:VCALENDAR